BEGIN:VCALENDAR
VERSION:2.0
PRODID:-//ChamberMaster//Event Calendar 2.0//EN
METHOD:PUBLISH
X-PUBLISHED-TTL:P3D
REFRESH-INTERVAL:P3D
CALSCALE:GREGORIAN
BEGIN:VEVENT
DTSTART:20240413T180000Z
DTEND:20240413T210000Z
X-MICROSOFT-CDO-ALLDAYEVENT:FALSE
SUMMARY:Spaghetti Dinner Take Out Only
DESCRIPTION:Take Out Spaghetti and Meatballs Dinner\, Pre-orders Please\, Walk Ins Welcome. Meal includes Spaghetti and Meatballs\, dry salad\, dinner roll and butter\, a dessert Cost $12.00 Benefits the Lehigh & Lausanne Rural Fire Company
X-ALT-DESC;FMTTYPE=text/html:Take Out Spaghetti and Meatballs Dinner\, Pre-orders Please\, Walk Ins Welcome. Meal includes Spaghetti and Meatballs\, dry salad\, dinner roll and butter\, a dessert Cost $12.00 Benefits the Lehigh &amp\; Lausanne Rural Fire Company
LOCATION:390 S. Lehigh Gorge Dr. Weatherly\, Pa
UID:e.1888.12736
SEQUENCE:3
DTSTAMP:20260424T221240Z
URL:http://discovercarbonpa.chambermaster.com/events/details/spaghetti-dinner-take-out-only-12736
END:VEVENT

END:VCALENDAR
