BEGIN:VCALENDAR
VERSION:2.0
PRODID:-//ChamberMaster//Event Calendar 2.0//EN
METHOD:PUBLISH
X-PUBLISHED-TTL:P3D
REFRESH-INTERVAL:P3D
CALSCALE:GREGORIAN
BEGIN:VEVENT
DTSTART:20230705T020000Z
DTEND:20230705T023000Z
X-MICROSOFT-CDO-ALLDAYEVENT:FALSE
SUMMARY:Lehighton Fireworks
DESCRIPTION:Lehighton Fireworks - Come out on the 4th of July and view the only community public firework display in Carbon County!\n\n\n\nOur award winning fireworks will start at 10:00 pm.  Great spots all around Lehighton to watch this amazing fireworks show put on by Shooting Star Fireworks! \n\n\n\nPlease note during the show you might encounter different traffic patterns.
X-ALT-DESC;FMTTYPE=text/html:Lehighton Fireworks - Come out on the 4th of July and view the only community public firework display in Carbon County!<br />\n<br />\nOur award winning fireworks will start at 10:00 pm.&nbsp\; Great spots all around Lehighton to watch this amazing fireworks show put on by Shooting Star Fireworks!&nbsp\;<br />\n<br />\nPlease note during the show you might encounter different traffic patterns.
LOCATION:
UID:e.1888.12040
SEQUENCE:3
DTSTAMP:20260425T034626Z
URL:http://discovercarbonpa.chambermaster.com/events/details/lehighton-fireworks-12040
END:VEVENT

END:VCALENDAR
