BEGIN:VCALENDAR
VERSION:2.0
PRODID:-//ChamberMaster//Event Calendar 2.0//EN
METHOD:PUBLISH
X-PUBLISHED-TTL:P3D
REFRESH-INTERVAL:P3D
CALSCALE:GREGORIAN
BEGIN:VEVENT
DTSTART:20230719T220000Z
DTEND:20230719T233000Z
X-MICROSOFT-CDO-ALLDAYEVENT:FALSE
SUMMARY:Energy Circle
DESCRIPTION:Join us for an Energy circle. During this small group setting\, Reiki Master David Miller will start the session with an intuitive affirmation which leads into directing healing energy to you and will also guide you in sending distance healing to loved ones. Reiki energy set within a circle allows the circle to become a space of deep healing and instills inner peace. To close out the session\, you will enjoy the peaceful\, healing sounds of chimes and singing bowls and top it off with chocolate!
X-ALT-DESC;FMTTYPE=text/html:<span style="background-color:rgb(255\, 255\, 255)\; color:rgb(5\, 5\, 5)\; font-family:segoe ui historic\,segoe ui\,helvetica\,arial\,sans-serif\; font-size:15px">Join us for an Energy circle. During this small group setting\, Reiki Master David Miller will start the session with an intuitive affirmation which leads into directing healing energy to you and will also guide you in sending distance healing to loved ones. Reiki energy set within a circle allows the circle to become a space of deep healing and instills inner peace. To close out the session\, you will enjoy the peaceful\, healing sounds of chimes and singing bowls and top it off with chocolate!</span>
LOCATION:Within Harmony 182 S. First Street Lehighton\, PA 18235
UID:e.1888.12417
SEQUENCE:3
DTSTAMP:20260424T194049Z
URL:http://discovercarbonpa.chambermaster.com/events/details/energy-circle-12417
END:VEVENT

END:VCALENDAR
