BEGIN:VCALENDAR
VERSION:2.0
PRODID:-//ChamberMaster//Event Calendar 2.0//EN
METHOD:PUBLISH
X-PUBLISHED-TTL:P3D
REFRESH-INTERVAL:P3D
CALSCALE:GREGORIAN
BEGIN:VEVENT
DTSTART:20200329T130000Z
DTEND:20200329T150000Z
X-MICROSOFT-CDO-ALLDAYEVENT:FALSE
SUMMARY:2020 TIME FOR BREAKFAST!!
DESCRIPTION:TIME FOR BREAKFAST AT THE CANADENSIS AMERICAN LEGION Date: Sunday March 29\, 2020 Time: 9:00am   11:00am Place: American Legion Evans-Blitz Post 922 3407 Spruce Cabin Road Canadensis\, PA 18325 ALL YOU CAN EAT FOR JUST $10.00 PER PERSON!! VARIETY OF BREAKFAST FOODS TO CHOSE FROM!! OPEN TO THE PUBLIC!!!
X-ALT-DESC;FMTTYPE=text/html:TIME FOR BREAKFAST AT THE CANADENSIS AMERICAN LEGION Date: Sunday March 29\, 2020 Time: 9:00am &ndash\; 11:00am Place: American Legion Evans-Blitz Post 922 3407 Spruce Cabin Road Canadensis\, PA 18325 ALL YOU CAN EAT FOR JUST $10.00 PER PERSON!! VARIETY OF BREAKFAST FOODS TO CHOSE FROM!! OPEN TO THE PUBLIC!!!
LOCATION:American Legion Evans-Blitz Post 922 3407 Spruce Cabin Road Canadensis\, PA 18325
UID:e.1888.10908
SEQUENCE:3
DTSTAMP:20260425T211303Z
URL:http://discovercarbonpa.chambermaster.com/events/details/2020-time-for-breakfast-10908
END:VEVENT

END:VCALENDAR
