BEGIN:VCALENDAR
VERSION:2.0
PRODID:-//ChamberMaster//Event Calendar 2.0//EN
METHOD:PUBLISH
X-PUBLISHED-TTL:P3D
REFRESH-INTERVAL:P3D
CALSCALE:GREGORIAN
BEGIN:VEVENT
DTSTART:20200119T013000Z
DTEND:20200119T033000Z
X-MICROSOFT-CDO-ALLDAYEVENT:FALSE
SUMMARY:2020 The Devil Makes Three
DESCRIPTION:The power of words isn't lost on longstanding Americana triumvirate The Devil Makes Three  Pete Bernhard\, Lucia Turino\, and Cooper McBean. For as much as they remain rooted in troubadour traditions of wandering folk\, Delta blues\, whiskey-soaked ragtime\, and reckless rock 'n' roll\, the band nods to the revolutionary unrest of author James Baldwin\, the no-holds barred disillusionment of Ernest Hemingway\, and Southern Gothic malaise of Flannery O'Connor. Tickets can be purchased at the Penn's Peak Box Office (walk-up only)\, Roadies Restaurant (walk-up only) or through Ticketmaster. For more information visit website or call 866-605-PEAK. www.pennspeak.com
X-ALT-DESC;FMTTYPE=text/html:The power of words isn&rsquo\;t lost on longstanding Americana triumvirate The Devil Makes Three&mdash\; Pete Bernhard\, Lucia Turino\, and Cooper McBean. For as much as they remain rooted in troubadour traditions of wandering folk\, Delta blues\, whiskey-soaked ragtime\, and reckless rock &lsquo\;n&rsquo\; roll\, the band nods to the revolutionary unrest of author James Baldwin\, the no-holds barred disillusionment of Ernest Hemingway\, and Southern Gothic malaise of Flannery O&rsquo\;Connor. Tickets can be purchased at the Penn&#39\;s Peak Box Office (walk-up only)\, Roadies Restaurant (walk-up only) or through Ticketmaster. For more information visit website or call 866-605-PEAK. www.pennspeak.com
LOCATION:Penn's Peak 325 Maury Road Jim Thorpe\, PA 18229
UID:e.1888.10617
SEQUENCE:3
DTSTAMP:20260425T225808Z
URL:http://discovercarbonpa.chambermaster.com/events/details/2020-the-devil-makes-three-10617
END:VEVENT

END:VCALENDAR
