BEGIN:VCALENDAR
VERSION:2.0
PRODID:-//ChamberMaster//Event Calendar 2.0//EN
METHOD:PUBLISH
X-PUBLISHED-TTL:P3D
REFRESH-INTERVAL:P3D
CALSCALE:GREGORIAN
BEGIN:VEVENT
DTSTART:20200327T210000Z
DTEND:20200328T190000Z
X-MICROSOFT-CDO-ALLDAYEVENT:FALSE
SUMMARY:2020 POSTPONED - Spring Bazaar
DESCRIPTION:Annual Spring Bazaar....huge basket raffle (100+ items)\, large item raffle\, kitchen open (filling\, soups)\, bake sale\, homemade Easter candy\, quilt raffle & knotted blankets\, woodcraft items. Free Egg Hunt for kids on Saturday at 11AM. Part of the profits will benefit Peaceful Knights and The Bo Tkach Foundation. This is a do not miss event!
X-ALT-DESC;FMTTYPE=text/html:Annual Spring Bazaar....huge basket raffle (100+ items)\, large item raffle\, kitchen open (filling\, soups)\, bake sale\, homemade Easter candy\, quilt raffle &amp\; knotted blankets\, woodcraft items. Free Egg Hunt for kids on Saturday at 11AM. Part of the profits will benefit Peaceful Knights and The Bo Tkach Foundation. This is a do not miss event!
LOCATION:Ben Salem UCC\, 1965 Church Hill Road\, Lehighton\, PA 18235
UID:e.1888.10812
SEQUENCE:3
DTSTAMP:20260425T170941Z
URL:http://discovercarbonpa.chambermaster.com/events/details/2020-postponed-spring-bazaar-10812
END:VEVENT

END:VCALENDAR
