BEGIN:VCALENDAR
VERSION:2.0
PRODID:-//ChamberMaster//Event Calendar 2.0//EN
METHOD:PUBLISH
X-PUBLISHED-TTL:P3D
REFRESH-INTERVAL:P3D
CALSCALE:GREGORIAN
BEGIN:VEVENT
DTSTART;VALUE=DATE:20201001
DTEND;VALUE=DATE:20201102
TRANSP:TRANSPARENT
X-MICROSOFT-CDO-ALLDAYEVENT:TRUE
SUMMARY:2020 D&L Trail Challenge
DESCRIPTION:Run\, Walk\, or Cycle: D&L Trail Challenge Starting October 1 Engage your competitiveness and be driven for personal fitness this fall\, while supporting the beautiful and historic D&L Trail! Registration for the D&L Trail Challenge is now open. This unique virtual competition will challenge runners and walkers to complete at least 4 cumulative half-marathons\, and cyclists to complete at least 4 cumulative full-marathons. Miles are accrued over multiple workouts during the month of October. The Challenge replaces the 2020 Half Marathon and is the Delaware & Lehigh National Heritage Corridor's biggest fundraiser of the year. A $50 entry fee gets you great SWAG\, optional additional race gear\, a real-time Leaderboard and other motivators\, and the opportunity to support the trail that so many runners\, walkers\, and cyclists enjoy all year long. Please join us! You can also support the D&L Trail and connecting it through the Lehigh Valley gap with a donation.
X-ALT-DESC;FMTTYPE=text/html:Run\, Walk\, or Cycle: D&amp\;L Trail Challenge Starting October 1 Engage your competitiveness and be driven for personal fitness this fall\, while supporting the beautiful and historic D&amp\;L Trail! Registration for the D&amp\;L Trail Challenge is now open. This unique virtual competition will challenge runners and walkers to complete at least 4 cumulative half-marathons\, and cyclists to complete at least 4 cumulative full-marathons. Miles are accrued over multiple workouts during the month of October. The Challenge replaces the 2020 Half Marathon and is the Delaware &amp\; Lehigh National Heritage Corridor&rsquo\;s biggest fundraiser of the year. A $50 entry fee gets you great SWAG\, optional additional race gear\, a real-time Leaderboard and other motivators\, and the opportunity to support the trail that so many runners\, walkers\, and cyclists enjoy all year long. Please join us! You can also support the D&amp\;L Trail and connecting it through the Lehigh Valley gap with a donation.
LOCATION:Virtual
UID:e.1888.11014
SEQUENCE:3
DTSTAMP:20260424T040315Z
URL:http://discovercarbonpa.chambermaster.com/events/details/2020-d-l-trail-challenge-11014
END:VEVENT

END:VCALENDAR
