BEGIN:VCALENDAR
VERSION:2.0
PRODID:-//ChamberMaster//Event Calendar 2.0//EN
METHOD:PUBLISH
X-PUBLISHED-TTL:P3D
REFRESH-INTERVAL:P3D
CALSCALE:GREGORIAN
BEGIN:VEVENT
DTSTART:20191216T210000Z
DTEND:20191217T003000Z
X-MICROSOFT-CDO-ALLDAYEVENT:FALSE
SUMMARY:2019 Nutcracker Display
DESCRIPTION:Come out to enjoy a self-guided tour of the fabulous Nutcracker display and Victorian Christmas at the Harry Packer Mansion in Jim Thorpe. Proceeds benefit Boy Scout Troop 82 in Lehighton. Light refreshments will be served.
X-ALT-DESC;FMTTYPE=text/html:Come out to enjoy a self-guided tour of the fabulous Nutcracker display and Victorian Christmas at the Harry Packer Mansion in Jim Thorpe. Proceeds benefit Boy Scout Troop 82 in Lehighton. Light refreshments will be served.
LOCATION:The Harry Packer Mansion 19 Packer Hill Drive Jim Thorpe\, PA
UID:e.1888.10783
SEQUENCE:3
DTSTAMP:20260426T014004Z
URL:http://discovercarbonpa.chambermaster.com/events/details/2019-nutcracker-display-10783
END:VEVENT

END:VCALENDAR
