BEGIN:VCALENDAR
VERSION:2.0
PRODID:-//ChamberMaster//Event Calendar 2.0//EN
METHOD:PUBLISH
X-PUBLISHED-TTL:P3D
REFRESH-INTERVAL:P3D
CALSCALE:GREGORIAN
BEGIN:VEVENT
DTSTART:20180405T000000Z
DTEND:20180405T030000Z
X-MICROSOFT-CDO-ALLDAYEVENT:FALSE
SUMMARY:2018 Robin Trower
DESCRIPTION:The current century has seen Robin wowing fans old and new on both sides of the Atlantic. The stadiums he filled in the Seventies may be a fond memory\, but the upside is that audiences in clubs and theatres can witness the magic at closer quarters Make no bones about it\, Robin Trower is an axeman's axeman. He's been a Fender Stratocaster endorsee ever since Jethro Tull's Martin Barre let him try one before a gig in the early Seventies\, and now has his own signature model   an honor accorded to few. Robin Trower live is an experience not to be missed. Whether you play guitar\, or just enjoy a brilliant soulful player\, come out and see the show. You will walk away smiling. Tickets can be purchased at the Penn's Peak Box Office (walk-up only)\, Roadies Restaurant (walk-up only) or through Ticketmaster. For more information visit website or call 866-605-PEAK. www.pennspeak.com
X-ALT-DESC;FMTTYPE=text/html:The current century has seen Robin wowing fans old and new on both sides of the Atlantic. The stadiums he filled in the Seventies may be a fond memory\, but the upside is that audiences in clubs and theatres can witness the magic at closer quarters Make no bones about it\, Robin Trower is an axeman&rsquo\;s axeman. He&rsquo\;s been a Fender Stratocaster endorsee ever since Jethro Tull&rsquo\;s Martin Barre let him try one before a gig in the early Seventies\, and now has his own signature model &ndash\; an honor accorded to few. Robin Trower live is an experience not to be missed. Whether you play guitar\, or just enjoy a brilliant soulful player\, come out and see the show. You will walk away smiling. Tickets can be purchased at the Penn&#39\;s Peak Box Office (walk-up only)\, Roadies Restaurant (walk-up only) or through Ticketmaster. For more information visit website or call 866-605-PEAK. www.pennspeak.com
LOCATION:Penn's Peak 325 Maury Road Jim Thorpe\, PA 18229
UID:e.1888.6750
SEQUENCE:3
DTSTAMP:20260422T004233Z
URL:http://discovercarbonpa.chambermaster.com/events/details/2018-robin-trower-6750
END:VEVENT

END:VCALENDAR
